BEGIN:VCALENDAR
VERSION:2.0
CALSCALE:GREGORIAN
PRODID:-//Diputació de Barcelona//DibaCMS//EN
BEGIN:VEVENT
UID:5769
DTSTAMP:20260422T202439
DTSTART:20260516T163000
DTEND:20260516T190000
SUMMARY:2ª Trobada gegantera de Calldetenes
LOCATION:
METHOD:PUBLISH
X-WR-CALNAME:calldetenes@calldetenes.cat
X-WR-TIMEZONE:Europe/Madrid
DESCRIPTION:La colla gegantera de Calldetenes prepara la segona trobada...

URI:https://www.calldetenes.cat/lactualitat/agenda/2a-trobada-gegantera-de-calldetenes.html
CLASS:PUBLIC
END:VEVENT
END:VCALENDAR
