BEGIN:VCALENDAR
VERSION:2.0
CALSCALE:GREGORIAN
PRODID:-//Diputació de Barcelona//DibaCMS//EN
BEGIN:VEVENT
UID:5767
DTSTAMP:20260420T115559
DTSTART:20260506T190000
DTEND:20260506T200000
SUMMARY:Voluntariat ambiental i social i vibra
LOCATION:
METHOD:PUBLISH
X-WR-CALNAME:calldetenes@calldetenes.cat
X-WR-TIMEZONE:Europe/Madrid
DESCRIPTION:El Punt jove organitza una reunió informativa per el Voluntariat Ambiental i Vibra.

URI:https://www.calldetenes.cat/lactualitat/agenda/voluntariat-ambiental-i-social-i-vibra.html
CLASS:PUBLIC
END:VEVENT
END:VCALENDAR
