BEGIN:VCALENDAR
VERSION:2.0
CALSCALE:GREGORIAN
PRODID:-//Diputació de Barcelona//DibaCMS//EN
BEGIN:VEVENT
UID:5736
DTSTAMP:20260421T102950
DTSTART:20260304T103000
DTEND:20260304T120000
SUMMARY:Xerrada primers auxilis
LOCATION:
METHOD:PUBLISH
X-WR-CALNAME:calldetenes@calldetenes.cat
X-WR-TIMEZONE:Europe/Madrid
DESCRIPTION:A càrrec de la Infermera Emi Camprubí del CL de Calldetenes.

URI:https://www.calldetenes.cat/lactualitat/agenda/xerrada-primers-auxilis.html
CLASS:PUBLIC
END:VEVENT
END:VCALENDAR
