BEGIN:VCALENDAR
VERSION:2.0
CALSCALE:GREGORIAN
PRODID:-//Diputació de Barcelona//DibaCMS//EN
BEGIN:VEVENT
UID:5712
DTSTAMP:20260426T022245
DTSTART:20260201T090000
DTEND:20260201T140000
SUMMARY:Artdetenes
LOCATION:
METHOD:PUBLISH
X-WR-CALNAME:calldetenes@calldetenes.cat
X-WR-TIMEZONE:Europe/Madrid
DESCRIPTION:Mercat Artesanal al Carrer Gran de 9:00h a 14:00h.

URI:https://www.calldetenes.cat/lactualitat/agenda/5712-artdetenes.html
CLASS:PUBLIC
END:VEVENT
END:VCALENDAR
