BEGIN:VCALENDAR
VERSION:2.0
CALSCALE:GREGORIAN
PRODID:-//Diputació de Barcelona//DibaCMS//EN
BEGIN:VEVENT
UID:5709
DTSTAMP:20260426T022224
DTSTART:20260125T180000
DTEND:20260125T200000
SUMMARY:Les Mares
LOCATION:Plaça Onze de Setembre, s/n 08506 Calldetenes
METHOD:PUBLISH
X-WR-CALNAME:calldetenes@calldetenes.cat
X-WR-TIMEZONE:Europe/Madrid
DESCRIPTION:Amb Fel Faixedas i Carles Xuriguera

URI:https://www.calldetenes.cat/lactualitat/agenda/les-mares.html
CLASS:PUBLIC
END:VEVENT
END:VCALENDAR
