BEGIN:VCALENDAR
VERSION:2.0
CALSCALE:GREGORIAN
PRODID:-//Diputació de Barcelona//DibaCMS//EN
BEGIN:VEVENT
UID:5674
DTSTAMP:20260421T144120
DTSTART:20251112T000000
DTEND:20251112T000000
SUMMARY:Espectacle + taller 25N
LOCATION:
METHOD:PUBLISH
X-WR-CALNAME:calldetenes@calldetenes.cat
X-WR-TIMEZONE:Europe/Madrid
DESCRIPTION:És la història de la Joana i la Mariona...

URI:https://www.calldetenes.cat/lactualitat/agenda/espectacle--taller-25n.html
CLASS:PUBLIC
END:VEVENT
END:VCALENDAR
