BEGIN:VCALENDAR
VERSION:2.0
CALSCALE:GREGORIAN
PRODID:-//Diputació de Barcelona//DibaCMS//EN
BEGIN:VEVENT
UID:5668
DTSTAMP:20260421T143614
DTSTART:20251117T150000
DTEND:20251117T163000
SUMMARY:Tarda intergeneracional
LOCATION:
METHOD:PUBLISH
X-WR-CALNAME:calldetenes@calldetenes.cat
X-WR-TIMEZONE:Europe/Madrid
DESCRIPTION:Gaudeix d'una tarda conjunta amb els infants.

URI:https://www.calldetenes.cat/lactualitat/agenda/tarda-intergeneracional.html
CLASS:PUBLIC
END:VEVENT
END:VCALENDAR
