BEGIN:VCALENDAR
VERSION:2.0
CALSCALE:GREGORIAN
PRODID:-//Diputació de Barcelona//DibaCMS//EN
BEGIN:VEVENT
UID:5667
DTSTAMP:20260421T155330
DTSTART:20251110T090000
DTEND:20251120T100000
SUMMARY:Taller prevenció de violències 25N
LOCATION:
METHOD:PUBLISH
X-WR-CALNAME:calldetenes@calldetenes.cat
X-WR-TIMEZONE:Europe/Madrid
DESCRIPTION:Taller " a un clic"

URI:https://www.calldetenes.cat/lactualitat/agenda/taller-prevencio-de-violencies-25n.html
CLASS:PUBLIC
END:VEVENT
END:VCALENDAR
