BEGIN:VCALENDAR
VERSION:2.0
CALSCALE:GREGORIAN
PRODID:-//Diputació de Barcelona//DibaCMS//EN
BEGIN:VEVENT
UID:5658
DTSTAMP:20260421T154507
DTSTART:20251109T090000
DTEND:20251109T140000
SUMMARY:Aplec de Sant Martí
LOCATION:
METHOD:PUBLISH
X-WR-CALNAME:calldetenes@calldetenes.cat
X-WR-TIMEZONE:Europe/Madrid
DESCRIPTION:9.00h Missa solemne. Esmorzar popular. Pa torrat amb arengades i ballada de sardanes enregistrades.

URI:https://www.calldetenes.cat/lactualitat/agenda/5658-aplec-de-sant-marti.html
CLASS:PUBLIC
END:VEVENT
END:VCALENDAR
