BEGIN:VCALENDAR
VERSION:2.0
CALSCALE:GREGORIAN
PRODID:-//Diputació de Barcelona//DibaCMS//EN
BEGIN:VEVENT
UID:5654
DTSTAMP:20260421T120532
DTSTART:20251102T110000
DTEND:20251102T130000
SUMMARY:La música tornarà al cementiri per Tots Sants
LOCATION:
METHOD:PUBLISH
X-WR-CALNAME:calldetenes@calldetenes.cat
X-WR-TIMEZONE:Europe/Madrid
DESCRIPTION:L’Ajuntament de Calldetenes tornarà a portar música en directe al cementiri municipal el proper dissabte, 1 de novembre.

URI:https://www.calldetenes.cat/lactualitat/agenda/5654-la-musica-tornara-al-cementiri-per-tots-sants.html
CLASS:PUBLIC
END:VEVENT
END:VCALENDAR
