BEGIN:VCALENDAR
VERSION:2.0
CALSCALE:GREGORIAN
PRODID:-//Diputació de Barcelona//DibaCMS//EN
BEGIN:VEVENT
UID:5652
DTSTAMP:20260421T161708
DTSTART:20251106T170000
DTEND:20251106T210000
SUMMARY:El Banc de Sang fa crida a fer una donació de sang
LOCATION:
METHOD:PUBLISH
X-WR-CALNAME:calldetenes@calldetenes.cat
X-WR-TIMEZONE:Europe/Madrid
DESCRIPTION:El Banc de Sang fa crida a fer una donació de sang durant la tardor

URI:https://www.calldetenes.cat/lactualitat/agenda/el-banc-de-sang-fa-crida-a-fer-una-donacio-de-sang.html
CLASS:PUBLIC
END:VEVENT
END:VCALENDAR
