BEGIN:VCALENDAR
VERSION:2.0
CALSCALE:GREGORIAN
PRODID:-//Diputació de Barcelona//DibaCMS//EN
BEGIN:VEVENT
UID:5644
DTSTAMP:20260421T113721
DTSTART:20251013T170000
DTEND:20251013T183000
SUMMARY:Esports amb valors a Calldetenes
LOCATION:
METHOD:PUBLISH
X-WR-CALNAME:calldetenes@calldetenes.cat
X-WR-TIMEZONE:Europe/Madrid
DESCRIPTION:Esports amb valors

URI:https://www.calldetenes.cat/lactualitat/agenda/esports-amb-valors-a-calldetenes.html
CLASS:PUBLIC
END:VEVENT
END:VCALENDAR
