BEGIN:VCALENDAR
VERSION:2.0
CALSCALE:GREGORIAN
PRODID:-//Diputació de Barcelona//DibaCMS//EN
BEGIN:VEVENT
UID:5611
DTSTAMP:20260421T115610
DTSTART:20250910T000000
DTEND:20250911T000000
SUMMARY:Diada de Catalunya a Calldetenes_10 setembre
LOCATION:
METHOD:PUBLISH
X-WR-CALNAME:calldetenes@calldetenes.cat
X-WR-TIMEZONE:Europe/Madrid
DESCRIPTION:Programació. Diada de Catalunya a Calldetenes.

Dimecres 10 a les 19h 


	Marxa dels Vigatans


URI:https://www.calldetenes.cat/lactualitat/agenda/diada-de-catalunya-a-calldetenes-10-setembre.html
CLASS:PUBLIC
END:VEVENT
END:VCALENDAR
