BEGIN:VCALENDAR
VERSION:2.0
CALSCALE:GREGORIAN
PRODID:-//Diputació de Barcelona//DibaCMS//EN
BEGIN:VEVENT
UID:5607
DTSTAMP:20260421T114247
DTSTART:20250925T000000
DTEND:20250925T000000
SUMMARY:Festa Major de Calldetenes_25 de setembre 
LOCATION:
METHOD:PUBLISH
X-WR-CALNAME:calldetenes@calldetenes.cat
X-WR-TIMEZONE:Europe/Madrid
DESCRIPTION:Programació:


	
	16 a 19h Campionat de dòmino. Casal
	
	
	21h Tast de vins.
	
	
	23h Concert de Mixtos. Esplanada del pavelló.
	


URI:https://www.calldetenes.cat/lactualitat/agenda/festa-major-de-calldetenes-25-de-setembre-.html
CLASS:PUBLIC
END:VEVENT
END:VCALENDAR
