BEGIN:VCALENDAR
VERSION:2.0
CALSCALE:GREGORIAN
PRODID:-//Diputació de Barcelona//DibaCMS//EN
BEGIN:VEVENT
UID:5501
DTSTAMP:20260421T144616
DTSTART:20250703T170000
DTEND:20250703T210000
SUMMARY:Com un amor d'estiu, salvar vides no s'oblida
LOCATION:
METHOD:PUBLISH
X-WR-CALNAME:calldetenes@calldetenes.cat
X-WR-TIMEZONE:Europe/Madrid
DESCRIPTION:
URI:https://www.calldetenes.cat/lactualitat/agenda/com-un-amor-destiu-salvar-vides-no-soblida.html
CLASS:PUBLIC
END:VEVENT
END:VCALENDAR
