BEGIN:VCALENDAR
VERSION:2.0
CALSCALE:GREGORIAN
PRODID:-//Diputació de Barcelona//DibaCMS//EN
BEGIN:VEVENT
UID:5499
DTSTAMP:20260421T143554
DTSTART:20251121T200000
DTEND:20251121T220000
SUMMARY:Impossible (Auditori Teatre)
LOCATION:Plaça Onze de Setembre, s/n 08506 Calldetenes
METHOD:PUBLISH
X-WR-CALNAME:calldetenes@calldetenes.cat
X-WR-TIMEZONE:Europe/Madrid
DESCRIPTION:L’Atlàntida a Calldetenes

URI:https://www.calldetenes.cat/lactualitat/agenda/impossible-auditori-teatre.html
CLASS:PUBLIC
END:VEVENT
END:VCALENDAR
