BEGIN:VCALENDAR
VERSION:2.0
CALSCALE:GREGORIAN
PRODID:-//Diputació de Barcelona//DibaCMS//EN
BEGIN:VEVENT
UID:5498
DTSTAMP:20260421T160449
DTSTART:20251130T170000
DTEND:20251130T180000
SUMMARY:Bruixanteris (Calltitellesdetenes 2025)
LOCATION:Plaça Onze de Setembre, s/n 08506 Calldetenes
METHOD:PUBLISH
X-WR-CALNAME:calldetenes@calldetenes.cat
X-WR-TIMEZONE:Europe/Madrid
DESCRIPTION:Aquesta història és un reconeixement a aquestes dones que al llarg del temps han estat perseguides i acusades injustament.

URI:https://www.calldetenes.cat/lactualitat/agenda/bruixanteris-calltitellesdetenes-2025.html
CLASS:PUBLIC
END:VEVENT
END:VCALENDAR
