BEGIN:VCALENDAR
VERSION:2.0
CALSCALE:GREGORIAN
PRODID:-//Diputació de Barcelona//DibaCMS//EN
BEGIN:VEVENT
UID:5497
DTSTAMP:20260421T155347
DTSTART:20251123T170000
DTEND:20251123T180000
SUMMARY:Maure el dinosaure (Calltitellesdetenes 2025)
LOCATION:Plaça Onze de Setembre, s/n 08506 Calldetenes
METHOD:PUBLISH
X-WR-CALNAME:calldetenes@calldetenes.cat
X-WR-TIMEZONE:Europe/Madrid
DESCRIPTION:La Martina és una nena petita, valenta i pèl roja.

URI:https://www.calldetenes.cat/lactualitat/agenda/maure-el-dinosaure-calltitellesdetenes-2025.html
CLASS:PUBLIC
END:VEVENT
END:VCALENDAR
