BEGIN:VCALENDAR
VERSION:2.0
CALSCALE:GREGORIAN
PRODID:-//Diputació de Barcelona//DibaCMS//EN
BEGIN:VEVENT
UID:5489
DTSTAMP:20260421T144211
DTSTART:20250706T000000
DTEND:20250706T000000
SUMMARY:Artdetenes, el mercat d'artesania de Calldetenes
LOCATION:
METHOD:PUBLISH
X-WR-CALNAME:calldetenes@calldetenes.cat
X-WR-TIMEZONE:Europe/Madrid
DESCRIPTION:📅 Diumenge 6 de juliol
📍 Carrer Gran de Calldetenes
🕘 Al matí

URI:https://www.calldetenes.cat/lactualitat/agenda/5489-artdetenes-el-mercat-dartesania-de-calldetenes.html
CLASS:PUBLIC
END:VEVENT
END:VCALENDAR
