BEGIN:VCALENDAR
VERSION:2.0
CALSCALE:GREGORIAN
PRODID:-//Diputació de Barcelona//DibaCMS//EN
BEGIN:VEVENT
UID:5487
DTSTAMP:20260421T144737
DTSTART:20250624T000000
DTEND:20250624T000000
SUMMARY:El dilluns 24 de juny, horari especial a les piscines municipals de Calldetenes per Sant Joan
LOCATION:
METHOD:PUBLISH
X-WR-CALNAME:calldetenes@calldetenes.cat
X-WR-TIMEZONE:Europe/Madrid
DESCRIPTION:Horari especial de les piscines municipals per Sant Joan

📅 Data: Dilluns 24 de juny de 2025
🕒 Horari especial: De 11 h a 19 h
📍 Lloc: Piscines Municipals de Calldetenes

Amb motiu de la festivitat de Sant Joan, les piscines municipals obriran en horari especial.
 

URI:https://www.calldetenes.cat/lactualitat/agenda/el-dilluns-24-de-juny-horari-especial-a-les-piscines-municipals-de-calldetenes-per-sant-joan.html
CLASS:PUBLIC
END:VEVENT
END:VCALENDAR
