BEGIN:VCALENDAR
VERSION:2.0
CALSCALE:GREGORIAN
PRODID:-//Diputació de Barcelona//DibaCMS//EN
BEGIN:VEVENT
UID:5467
DTSTAMP:20260421T103124
DTSTART:20250716T000000
DTEND:20250716T000000
SUMMARY:Encadira't: dimecres 16 de juliol Argelagues
LOCATION:Plaça Onze de Setembre 
METHOD:PUBLISH
X-WR-CALNAME:calldetenes@calldetenes.cat
X-WR-TIMEZONE:Europe/Madrid
DESCRIPTION:Encadira't 2025.

URI:https://www.calldetenes.cat/lactualitat/agenda/encadirat-dimecres-16-de-juliol-argelagues.html
CLASS:PUBLIC
END:VEVENT
END:VCALENDAR
