BEGIN:VCALENDAR
VERSION:2.0
CALSCALE:GREGORIAN
PRODID:-//Diputació de Barcelona//DibaCMS//EN
BEGIN:VEVENT
UID:5451
DTSTAMP:20260421T104515
DTSTART:20251219T200000
DTEND:20251219T220000
SUMMARY:Els bons (Auditori Teatre)
LOCATION:Plaça Onze de Setembre, s/n 08506 Calldetenes
METHOD:PUBLISH
X-WR-CALNAME:calldetenes@calldetenes.cat
X-WR-TIMEZONE:Europe/Madrid
DESCRIPTION:Una tragicomèdia amb Jordi Boixaderas i Ramon Madaula

URI:https://www.calldetenes.cat/lactualitat/agenda/els-bons-auditori-teatre.html
CLASS:PUBLIC
END:VEVENT
END:VCALENDAR
