BEGIN:VCALENDAR
VERSION:2.0
CALSCALE:GREGORIAN
PRODID:-//Diputació de Barcelona//DibaCMS//EN
BEGIN:VEVENT
UID:4584
DTSTAMP:20260420T101502
DTSTART:20231217T080000
DTEND:20231217T140000
SUMMARY:Portada del pessebre a Matagalls
LOCATION:Davant del local del CEC Calldetenes 
METHOD:PUBLISH
X-WR-CALNAME:calldetenes@calldetenes.cat
X-WR-TIMEZONE:Europe/Madrid
DESCRIPTION:El Club Excursionista Calldetenes puja al Matagalls des del coll de Bordariol.

URI:https://www.calldetenes.cat/lactualitat/agenda/4584-portada-del-pessebre-a-matagalls.html
CLASS:PUBLIC
END:VEVENT
END:VCALENDAR
