BEGIN:VCALENDAR
VERSION:2.0
CALSCALE:GREGORIAN
PRODID:-//Diputació de Barcelona//DibaCMS//EN
BEGIN:VEVENT
UID:4566
DTSTAMP:20260420T102714
DTSTART:20231106T000000
DTEND:20231106T000000
SUMMARY:TOCA DONAR. Un gest que connecta vides. TOCA REBRE VIDES
LOCATION:Consultori Municipal
C/Joan Margall s/n 
METHOD:PUBLISH
X-WR-CALNAME:calldetenes@calldetenes.cat
X-WR-TIMEZONE:Europe/Madrid
DESCRIPTION:Dijous 9 de juliol dona sang a Calldetenes.

URI:https://www.calldetenes.cat/lactualitat/agenda/toca-donar-un-gest-que-connecta-vides-toca-rebre-vides.html
CLASS:PUBLIC
END:VEVENT
END:VCALENDAR
