BEGIN:VCALENDAR
VERSION:2.0
CALSCALE:GREGORIAN
PRODID:-//Diputació de Barcelona//DibaCMS//EN
BEGIN:VEVENT
UID:4548
DTSTAMP:20260420T115019
DTSTART:20231029T000000
DTEND:20231029T000000
SUMMARY:1r Concurs de Panellets
LOCATION:Plaça onze de setembre  
METHOD:PUBLISH
X-WR-CALNAME:calldetenes@calldetenes.cat
X-WR-TIMEZONE:Europe/Madrid
DESCRIPTION:L’últim diumenge d’octubre a Calldetenes se celebrarà el primer concurs de panellets.

URI:https://www.calldetenes.cat/lactualitat/agenda/1r-concurs-de-panellets.html
CLASS:PUBLIC
END:VEVENT
END:VCALENDAR
