BEGIN:VCALENDAR
VERSION:2.0
CALSCALE:GREGORIAN
PRODID:-//Diputació de Barcelona//DibaCMS//EN
BEGIN:VEVENT
UID:4526
DTSTAMP:20260420T102110
DTSTART:20231126T180000
DTEND:20231126T190000
SUMMARY:31è CALLTITELLESDETENES 2023 Rere l'ombra de Wendy i Peter Pan.
LOCATION:Plaça Onze de Setembre, s/n 08506 Calldetenes
METHOD:PUBLISH
X-WR-CALNAME:calldetenes@calldetenes.cat
X-WR-TIMEZONE:Europe/Madrid
DESCRIPTION:Rere l'ombra de Wendy i Peter Pan de la companyia Produccions Essencials.

URI:https://www.calldetenes.cat/lactualitat/agenda/31e-calltitellesdetenes-2023-rere-lombra-de-wendy-i-peter-pan.html
CLASS:PUBLIC
END:VEVENT
END:VCALENDAR
