BEGIN:VCALENDAR
VERSION:2.0
CALSCALE:GREGORIAN
PRODID:-//Diputació de Barcelona//DibaCMS//EN
BEGIN:VEVENT
UID:4500
DTSTAMP:20260422T204428
DTSTART:20230728T180000
DTEND:20230729T000000
SUMMARY:Festa de la cervesa artesana
LOCATION:Plaça onze de setembre  
METHOD:PUBLISH
X-WR-CALNAME:calldetenes@calldetenes.cat
X-WR-TIMEZONE:Europe/Madrid
DESCRIPTION:Divendres 28 de juliol.

18_00h Tapes i cerveses catalanes a la plaça. Plaça 11 de setembre

19_00 h- 21_00h Zona de jocs de taula amb Osona Juga.

21_00h- 23_00h Música en directe d'Ernest Ginkgo

URI:https://www.calldetenes.cat/lactualitat/agenda/4500-festa-de-la-cervesa-artesana.html
CLASS:PUBLIC
END:VEVENT
END:VCALENDAR
