BEGIN:VCALENDAR
VERSION:2.0
CALSCALE:GREGORIAN
PRODID:-//Diputació de Barcelona//DibaCMS//EN
BEGIN:VEVENT
UID:4488
DTSTAMP:20260423T002211
DTSTART:20230916T000000
DTEND:20230924T000000
SUMMARY:Festa Major de Calldetenes
LOCATION:
METHOD:PUBLISH
X-WR-CALNAME:calldetenes@calldetenes.cat
X-WR-TIMEZONE:Europe/Madrid
DESCRIPTION:Des del dissabte 16 de setembre al diumenge 24 es celebra la Festa Major de Calldetenes. 

URI:https://www.calldetenes.cat/lactualitat/agenda/festa-major-de-calldetenes.html
CLASS:PUBLIC
END:VEVENT
END:VCALENDAR
