BEGIN:VCALENDAR
VERSION:2.0
CALSCALE:GREGORIAN
PRODID:-//Diputació de Barcelona//DibaCMS//EN
BEGIN:VEVENT
UID:4449
DTSTAMP:20260420T130149
DTSTART:20230717T000000
DTEND:20230722T000000
SUMMARY:41 anys de les Festes del Barri de Darrere els Horts
LOCATION:Plaça Onze de setembre.  
METHOD:PUBLISH
X-WR-CALNAME:calldetenes@calldetenes.cat
X-WR-TIMEZONE:Europe/Madrid
DESCRIPTION:Des del dilluns 17 de Juliol al dissabte 22 de juliol es celebren els 41 anys de les Festes de Darrere els Horts. 

URI:https://www.calldetenes.cat/lactualitat/agenda/41-anys-de-les-festes-del-barri-de-darrere-els-horts.html
CLASS:PUBLIC
END:VEVENT
END:VCALENDAR
