BEGIN:VCALENDAR
VERSION:2.0
CALSCALE:GREGORIAN
PRODID:-//Diputació de Barcelona//DibaCMS//EN
BEGIN:VEVENT
UID:4447
DTSTAMP:20260420T125726
DTSTART:20230717T204500
DTEND:20230717T213000
SUMMARY:20:45 h Ple Extraordinari Municipal
LOCATION:Ajuntament de Calldetenes 
METHOD:PUBLISH
X-WR-CALNAME:calldetenes@calldetenes.cat
X-WR-TIMEZONE:Europe/Madrid
DESCRIPTION:Convocatòria Ple Extraordinari Municipal a les 20:45h a la Sala de Plens de l'Ajuntament de Calldetenes

URI:https://www.calldetenes.cat/lactualitat/agenda/2045-h-ple-extraordinari-municipal.html
CLASS:PUBLIC
END:VEVENT
END:VCALENDAR
