BEGIN:VCALENDAR
VERSION:2.0
CALSCALE:GREGORIAN
PRODID:-//Diputació de Barcelona//DibaCMS//EN
BEGIN:VEVENT
UID:4428
DTSTAMP:20260420T170210
DTSTART:20230719T200000
DTEND:20230719T230000
SUMMARY:Societat limitada.  Encadira't 2023.
LOCATION:Plaça Onze de Setembre  
METHOD:PUBLISH
X-WR-CALNAME:calldetenes@calldetenes.cat
X-WR-TIMEZONE:Europe/Madrid
DESCRIPTION:Monòleg a càrrec de la companyia Xavier Font el dimecres 19 de juliol a les 20h a la Plaça Onze de Setembre de 2023. 

URI:https://www.calldetenes.cat/lactualitat/agenda/societat-limitada-encadirat-2023.html
CLASS:PUBLIC
END:VEVENT
END:VCALENDAR
