BEGIN:VCALENDAR
VERSION:2.0
CALSCALE:GREGORIAN
PRODID:-//Diputació de Barcelona//DibaCMS//EN
BEGIN:VEVENT
UID:4388
DTSTAMP:20260420T181645
DTSTART:20230529T000000
DTEND:20230529T000000
SUMMARY:Dilluns 29 de maig festa local a Calldetenes
LOCATION:
METHOD:PUBLISH
X-WR-CALNAME:calldetenes@calldetenes.cat
X-WR-TIMEZONE:Europe/Madrid
DESCRIPTION:Dilluns 29 de maig festa local a Calldetenes

URI:https://www.calldetenes.cat/lactualitat/agenda/dilluns-29-de-maig-festa-local-a-calldetenes.html
CLASS:PUBLIC
END:VEVENT
END:VCALENDAR
