BEGIN:VCALENDAR
VERSION:2.0
CALSCALE:GREGORIAN
PRODID:-//Diputació de Barcelona//DibaCMS//EN
BEGIN:VEVENT
UID:4359
DTSTAMP:20260420T171508
DTSTART:20230406T000000
DTEND:20230406T000000
SUMMARY:Festa Local a Calldetenes
LOCATION:
METHOD:PUBLISH
X-WR-CALNAME:calldetenes@calldetenes.cat
X-WR-TIMEZONE:Europe/Madrid
DESCRIPTION:Dijous 6 d'abril festa local a Calldetenes. 

URI:https://www.calldetenes.cat/lactualitat/agenda/festa-local-a-calldetenes.html
CLASS:PUBLIC
END:VEVENT
END:VCALENDAR
