BEGIN:VCALENDAR
VERSION:2.0
CALSCALE:GREGORIAN
PRODID:-//Diputació de Barcelona//DibaCMS//EN
BEGIN:VEVENT
UID:4350
DTSTAMP:20260420T164744
DTSTART:20230421T000000
DTEND:20230421T000000
SUMMARY:Dijous 20 d'abril- Festival d'Arts al Carrer de Calldetenes 
LOCATION:Els carrers de Calldetenes 
METHOD:PUBLISH
X-WR-CALNAME:calldetenes@calldetenes.cat
X-WR-TIMEZONE:Europe/Madrid
DESCRIPTION:Programació divendres 21 d'abril. 

URI:https://www.calldetenes.cat/lactualitat/agenda/dijous-20-dabril-festival-darts-al-carrer-de-calldetenes-.html
CLASS:PUBLIC
END:VEVENT
END:VCALENDAR
