BEGIN:VCALENDAR
VERSION:2.0
CALSCALE:GREGORIAN
PRODID:-//Diputació de Barcelona//DibaCMS//EN
BEGIN:VEVENT
UID:4349
DTSTAMP:20260420T154012
DTSTART:20230423T000000
DTEND:20230423T000000
SUMMARY:Diumenge 23- Festival d'Arts al Carrer de Calldetenes   
LOCATION:Els carrers de Calldetenes 
METHOD:PUBLISH
X-WR-CALNAME:calldetenes@calldetenes.cat
X-WR-TIMEZONE:Europe/Madrid
DESCRIPTION:Programació divendres 21 d'abril. 

URI:https://www.calldetenes.cat/lactualitat/agenda/diumenge-23-festival-darts-al-carrer-de-calldetenes-.html
CLASS:PUBLIC
END:VEVENT
END:VCALENDAR
