BEGIN:VCALENDAR
VERSION:2.0
CALSCALE:GREGORIAN
PRODID:-//Diputació de Barcelona//DibaCMS//EN
BEGIN:VEVENT
UID:4348
DTSTAMP:20260420T153525
DTSTART:20230422T000000
DTEND:20230422T000000
SUMMARY:Dissabte 22- Festival d'Arts al Carrer de Calldetenes  
LOCATION:Els carrers de Calldetenes 
METHOD:PUBLISH
X-WR-CALNAME:calldetenes@calldetenes.cat
X-WR-TIMEZONE:Europe/Madrid
DESCRIPTION:Programació divendres 21 d'abril. 

URI:https://www.calldetenes.cat/lactualitat/agenda/dissabte-22-festival-darts-al-carrer-de-calldetenes-.html
CLASS:PUBLIC
END:VEVENT
END:VCALENDAR
