BEGIN:VCALENDAR
VERSION:2.0
CALSCALE:GREGORIAN
PRODID:-//Diputació de Barcelona//DibaCMS//EN
BEGIN:VEVENT
UID:4269
DTSTAMP:20260420T181659
DTSTART:20230224T200000
DTEND:20230224T220000
SUMMARY:Cicle d'audiovisuals de muntanya i aventura de Calldetenes 2023 
LOCATION:Plaça Onze de Setembre, s/n 08506 Calldetenes
METHOD:PUBLISH
X-WR-CALNAME:calldetenes@calldetenes.cat
X-WR-TIMEZONE:Europe/Madrid
DESCRIPTION:Del 17 al 24 de febrer, a l'Auditori Teatre de Calldetenes es celebrarà un nou cicle audiovisual on es podran veure documentals i curtmetratges relacionats amb la muntanya i l'aventura,

URI:https://www.calldetenes.cat/lactualitat/agenda/cicle-daudiovisuals-de-muntanya-i-aventura-de-calldetenes-2023-.html
CLASS:PUBLIC
END:VEVENT
END:VCALENDAR
