BEGIN:VCALENDAR
VERSION:2.0
CALSCALE:GREGORIAN
PRODID:-//Diputació de Barcelona//DibaCMS//EN
BEGIN:VEVENT
UID:4261
DTSTAMP:20260420T165348
DTSTART:20230212T180000
DTEND:20230212T193000
SUMMARY:Circ: ACROMETRIA de la companyia Psirc
LOCATION:Plaça Onze de Setembre, s/n 08506 Calldetenes
METHOD:PUBLISH
X-WR-CALNAME:calldetenes@calldetenes.cat
X-WR-TIMEZONE:Europe/Madrid
DESCRIPTION:Acrometria és la història d’una trobada perturbadora. En l’escena, el cor
s’exrpessa entre l’acrobàcia i la poesia. Emocional, metafòric i abstracte.

URI:https://www.calldetenes.cat/lactualitat/agenda/circ-acrometria-de-la-companyia-psirc.html
CLASS:PUBLIC
END:VEVENT
END:VCALENDAR
