BEGIN:VCALENDAR
VERSION:2.0
CALSCALE:GREGORIAN
PRODID:-//Diputació de Barcelona//DibaCMS//EN
BEGIN:VEVENT
UID:4225
DTSTAMP:20260420T213720
DTSTART:20221226T110000
DTEND:20221226T130000
SUMMARY:Carter Reial
LOCATION:
METHOD:PUBLISH
X-WR-CALNAME:calldetenes@calldetenes.cat
X-WR-TIMEZONE:Europe/Madrid
DESCRIPTION:Visita del carter reial el dilluns 26 de desembre de les 11h a les 13h al vestíbul de l'Ajuntament.

URI:https://www.calldetenes.cat/lactualitat/agenda/carter-reial.html
CLASS:PUBLIC
END:VEVENT
END:VCALENDAR
