BEGIN:VCALENDAR
VERSION:2.0
CALSCALE:GREGORIAN
PRODID:-//Diputació de Barcelona//DibaCMS//EN
BEGIN:VEVENT
UID:4222
DTSTAMP:20260420T200750
DTSTART:20230101T190000
DTEND:20230101T210000
SUMMARY:La llum de l'establia
LOCATION:Plaça Onze de Setembre, s/n 08506 Calldetenes
METHOD:PUBLISH
X-WR-CALNAME:calldetenes@calldetenes.cat
X-WR-TIMEZONE:Europe/Madrid
DESCRIPTION:L'Espardenya teatre presenten els pastorets a l'Auditori de Calldetenes.

 

URI:https://www.calldetenes.cat/lactualitat/agenda/4222-la-llum-de-lestablia.html
CLASS:PUBLIC
END:VEVENT
END:VCALENDAR
