BEGIN:VCALENDAR
VERSION:2.0
CALSCALE:GREGORIAN
PRODID:-//Diputació de Barcelona//DibaCMS//EN
BEGIN:VEVENT
UID:4201
DTSTAMP:20260420T185019
DTSTART:20221216T000000
DTEND:20221216T150000
SUMMARY:Visita de la Unitat Mòbil d’informació al consumidor
LOCATION:Ajuntament de Calldetenes, Plaça Onze de setembre s/n. 
METHOD:PUBLISH
X-WR-CALNAME:calldetenes@calldetenes.cat
X-WR-TIMEZONE:Europe/Madrid
DESCRIPTION:La pròxima visita de la Unitat Mòbil d’Informació al Consumidor està prevista el proper divendres 16 de desembre de les 12h a la 13h.

URI:https://www.calldetenes.cat/lactualitat/agenda/4201-visita-de-la-unitat-mobil-dinformacio-al-consumidor.html
CLASS:PUBLIC
END:VEVENT
END:VCALENDAR
