BEGIN:VCALENDAR
VERSION:2.0
CALSCALE:GREGORIAN
PRODID:-//Diputació de Barcelona//DibaCMS//EN
BEGIN:VEVENT
UID:4129
DTSTAMP:20260420T212627
DTSTART:20221120T180000
DTEND:20221120T190000
SUMMARY:Titelles: El conillet que volia pa de pessic
LOCATION:Plaça Onze de Setembre, s/n 08506 Calldetenes
METHOD:PUBLISH
X-WR-CALNAME:calldetenes@calldetenes.cat
X-WR-TIMEZONE:Europe/Madrid
DESCRIPTION:Cacauet Teatre

URI:https://www.calldetenes.cat/lactualitat/agenda/titelles-el-conillet-que-volia-pa-de-pessic.html
CLASS:PUBLIC
END:VEVENT
END:VCALENDAR
