BEGIN:VCALENDAR
VERSION:2.0
CALSCALE:GREGORIAN
PRODID:-//Diputació de Barcelona//DibaCMS//EN
BEGIN:VEVENT
UID:4125
DTSTAMP:20260420T200842
DTSTART:20221023T180000
DTEND:20221023T190000
SUMMARY:Titelles: Sopa de pedres
LOCATION:Plaça Onze de Setembre, s/n 08506 Calldetenes
METHOD:PUBLISH
X-WR-CALNAME:calldetenes@calldetenes.cat
X-WR-TIMEZONE:Europe/Madrid
DESCRIPTION:Engruna Teatre

URI:https://www.calldetenes.cat/lactualitat/agenda/titelles-sopa-de-pedres.html
CLASS:PUBLIC
END:VEVENT
END:VCALENDAR
