BEGIN:VCALENDAR
VERSION:2.0
CALSCALE:GREGORIAN
PRODID:-//Diputació de Barcelona//DibaCMS//EN
BEGIN:VEVENT
UID:4115
DTSTAMP:20260421T004038
DTSTART:20220923T210000
DTEND:20220923T230000
SUMMARY:L'Hostal de la Glòria
LOCATION:Plaça Onze de Setembre, s/n 08506 Calldetenes
METHOD:PUBLISH
X-WR-CALNAME:calldetenes@calldetenes.cat
X-WR-TIMEZONE:Europe/Madrid
DESCRIPTION:Teatre de Festa Major amb L'Espardenya Teatre Calldetenes

URI:https://www.calldetenes.cat/lactualitat/agenda/lhostal-de-la-gloria.html
CLASS:PUBLIC
END:VEVENT
END:VCALENDAR
