BEGIN:VCALENDAR
VERSION:2.0
CALSCALE:GREGORIAN
PRODID:-//Diputació de Barcelona//DibaCMS//EN
BEGIN:VEVENT
UID:4113
DTSTAMP:20260420T225738
DTSTART:20220925T000000
DTEND:20220925T230000
SUMMARY:Festa Major: diumenge 25
LOCATION:
METHOD:PUBLISH
X-WR-CALNAME:calldetenes@calldetenes.cat
X-WR-TIMEZONE:Europe/Madrid
DESCRIPTION:
URI:https://www.calldetenes.cat/lactualitat/agenda/festa-major-diumenge-25.html
CLASS:PUBLIC
END:VEVENT
END:VCALENDAR
