BEGIN:VCALENDAR
VERSION:2.0
CALSCALE:GREGORIAN
PRODID:-//Diputació de Barcelona//DibaCMS//EN
BEGIN:VEVENT
UID:4024
DTSTAMP:20260420T212728
DTSTART:20220728T201500
DTEND:20220728T220000
SUMMARY:Caminades a la fresca
LOCATION:Sortida de la plaça Onze de Setembre 
METHOD:PUBLISH
X-WR-CALNAME:calldetenes@calldetenes.cat
X-WR-TIMEZONE:Europe/Madrid
DESCRIPTION:
URI:https://www.calldetenes.cat/lactualitat/agenda/4024-caminades-a-la-fresca.html
CLASS:PUBLIC
END:VEVENT
END:VCALENDAR
