BEGIN:VCALENDAR
VERSION:2.0
CALSCALE:GREGORIAN
PRODID:-//Diputació de Barcelona//DibaCMS//EN
BEGIN:VEVENT
UID:3981
DTSTAMP:20260420T231739
DTSTART:20220603T000000
DTEND:20220603T000000
SUMMARY:Últim dia inscripcions Voluntariat Ambiental
LOCATION:Plaça Onze de Setembre s/n 08506 Calldetenes
METHOD:PUBLISH
X-WR-CALNAME:calldetenes@calldetenes.cat
X-WR-TIMEZONE:Europe/Madrid
DESCRIPTION:Inscripcions del 23 de maig al 3 de juny. 

URI:https://www.calldetenes.cat/lactualitat/agenda/ultim-dia-inscripcions-voluntariat-ambiental.html
CLASS:PUBLIC
END:VEVENT
END:VCALENDAR
