BEGIN:VCALENDAR
VERSION:2.0
CALSCALE:GREGORIAN
PRODID:-//Diputació de Barcelona//DibaCMS//EN
BEGIN:VEVENT
UID:3885
DTSTAMP:20260421T035811
DTSTART:20220221T163000
DTEND:20220221T190000
SUMMARY:Xerrada: Salut mental en temps de pandèmia
LOCATION:Plaça Vella 08506 
METHOD:PUBLISH
X-WR-CALNAME:calldetenes@calldetenes.cat
X-WR-TIMEZONE:Europe/Madrid
DESCRIPTION:Des de l'Espai Activa't s'organitza la xerrada Salut emocional en temps de pandèmia amb la psicòloga Sònia Alarcón. 

URI:https://www.calldetenes.cat/lactualitat/agenda/xerrada-salut-mental-en-temps-de-pandemia.html
CLASS:PUBLIC
END:VEVENT
END:VCALENDAR
