BEGIN:VCALENDAR
VERSION:2.0
CALSCALE:GREGORIAN
PRODID:-//Diputació de Barcelona//DibaCMS//EN
BEGIN:VEVENT
UID:3846
DTSTAMP:20260421T040109
DTSTART:20220223T153000
DTEND:20220223T180000
SUMMARY:Bibliobús
LOCATION:
METHOD:PUBLISH
X-WR-CALNAME:calldetenes@calldetenes.cat
X-WR-TIMEZONE:Europe/Madrid
DESCRIPTION:Servei de Bibliobús al municipi

URI:https://www.calldetenes.cat/lactualitat/agenda/3846-bibliobus.html
CLASS:PUBLIC
END:VEVENT
END:VCALENDAR
