BEGIN:VCALENDAR
VERSION:2.0
CALSCALE:GREGORIAN
PRODID:-//Diputació de Barcelona//DibaCMS//EN
BEGIN:VEVENT
UID:3834
DTSTAMP:20260421T051640
DTSTART:20220204T200000
DTEND:20220204T230000
SUMMARY:Circ amb Udul
LOCATION:
METHOD:PUBLISH
X-WR-CALNAME:calldetenes@calldetenes.cat
X-WR-TIMEZONE:Europe/Madrid
DESCRIPTION:Circ d’entranya, visceral i simple. Udul. Crit llarg de veritats incontrolables.

URI:https://www.calldetenes.cat/lactualitat/agenda/circ-amb-udul.html
CLASS:PUBLIC
END:VEVENT
END:VCALENDAR
